BEGIN:VCALENDAR
PRODID:-//punkave//apostrophe 2.x//EN
VERSION:1.0
TZ:0
BEGIN:VEVENT
CATEGORIES:MEETING
DTSTART:20220401T040000Z
DTEND:20220401T040000Z
DTSTAMP:20260420T152713Z
SUMMARY:Offices Closed
DESCRIPTION:Offices Closed
LOCATION:undefined
UID:3214869785829037
END:VEVENT
END:VCALENDAR
