BEGIN:VCALENDAR
PRODID:-//punkave//apostrophe 2.x//EN
VERSION:1.0
TZ:0
BEGIN:VEVENT
CATEGORIES:MEETING
DTSTART:20220404T120000Z
DTEND:20220404T200000Z
DTSTAMP:20260420T151256Z
SUMMARY:Offices Open
DESCRIPTION:Offices Open
LOCATION:undefined
UID:517309183150636592
END:VEVENT
END:VCALENDAR
