BEGIN:VCALENDAR
PRODID:-//punkave//apostrophe 2.x//EN
VERSION:1.0
TZ:0
BEGIN:VEVENT
CATEGORIES:MEETING
DTSTART:20220422T120000Z
DTEND:20220422T200000Z
DTSTAMP:20260420T183305Z
SUMMARY:Offices Open
DESCRIPTION:Offices Open
LOCATION:undefined
UID:911957401166156425
END:VEVENT
END:VCALENDAR
