BEGIN:VCALENDAR
PRODID:-//punkave//apostrophe 2.x//EN
VERSION:1.0
TZ:0
BEGIN:VEVENT
CATEGORIES:MEETING
DTSTART:20220410T040000Z
DTEND:20220410T040000Z
DTSTAMP:20260420T153510Z
SUMMARY:Palm Sunday
DESCRIPTION:Palm Sunday
LOCATION:undefined
UID:555464352181801246
END:VEVENT
END:VCALENDAR
