BEGIN:VCALENDAR
PRODID:-//punkave//apostrophe 2.x//EN
VERSION:1.0
TZ:0
BEGIN:VEVENT
CATEGORIES:MEETING
DTSTART:20220619T223000Z
DTEND:20220620T000000Z
DTSTAMP:20260420T201347Z
SUMMARY:Juneteenth Celebration
DESCRIPTION:Juneteenth Celebrations: 

We also encourage GSFS families to commemorate Juneteenth in the community at these two local events:
https://juneteenthphilly.org/
https://www.johnsonhouse.org/philadelphia-juneteenth-festival/
LOCATION:undefined
UID:898026935254170541
END:VEVENT
END:VCALENDAR
