BEGIN:VCALENDAR
PRODID:-//punkave//apostrophe 2.x//EN
VERSION:1.0
TZ:0
BEGIN:VEVENT
CATEGORIES:MEETING
DTSTART:20220415T040000Z
DTEND:20220415T040000Z
DTSTAMP:20260420T183345Z
SUMMARY:Passover begins at Sunset
DESCRIPTION:Passover begins at Sunset
LOCATION:undefined
UID:295776794724939887
END:VEVENT
END:VCALENDAR
