BEGIN:VCALENDAR
PRODID:-//punkave//apostrophe 2.x//EN
VERSION:1.0
TZ:0
BEGIN:VEVENT
CATEGORIES:MEETING
DTSTART:20220916T213000Z
DTEND:20220916T233000Z
DTSTAMP:20260421T011831Z
SUMMARY:PCA Back to School BBQ
DESCRIPTION:
LOCATION:undefined
UID:182051979548164752
END:VEVENT
END:VCALENDAR
