BEGIN:VCALENDAR
PRODID:-//punkave//apostrophe 2.x//EN
VERSION:1.0
TZ:0
BEGIN:VEVENT
CATEGORIES:MEETING
DTSTART:20220919T213000Z
DTEND:20220919T233000Z
DTSTAMP:20260421T011556Z
SUMMARY:PCA Back to School BBQ Rain Date
DESCRIPTION:
LOCATION:undefined
UID:157300428226678012
END:VEVENT
END:VCALENDAR
