BEGIN:VCALENDAR
PRODID:-//punkave//apostrophe 2.x//EN
VERSION:1.0
TZ:0
BEGIN:VEVENT
CATEGORIES:MEETING
DTSTART:20220428T220000Z
DTEND:20220429T000000Z
DTSTAMP:20260420T165556Z
SUMMARY:PCA CARES Meeting
DESCRIPTION:
LOCATION:undefined
UID:611958639933287875
END:VEVENT
END:VCALENDAR
