BEGIN:VCALENDAR
PRODID:-//punkave//apostrophe 2.x//EN
VERSION:1.0
TZ:0
BEGIN:VEVENT
CATEGORIES:MEETING
DTSTART:20221006T223000Z
DTEND:20221007T000000Z
DTSTAMP:20260421T013528Z
SUMMARY:PCA CARES Meeting
DESCRIPTION:
LOCATION:undefined
UID:281184156445811699
END:VEVENT
END:VCALENDAR
