BEGIN:VCALENDAR
PRODID:-//punkave//apostrophe 2.x//EN
VERSION:1.0
TZ:0
BEGIN:VEVENT
CATEGORIES:MEETING
DTSTART:20220927T230000Z
DTEND:20220928T003000Z
DTSTAMP:20260421T012015Z
SUMMARY:PCA Meeting
DESCRIPTION:
LOCATION:undefined
UID:555013091897916473
END:VEVENT
END:VCALENDAR
