BEGIN:VCALENDAR
PRODID:-//punkave//apostrophe 2.x//EN
VERSION:1.0
TZ:0
BEGIN:VEVENT
CATEGORIES:MEETING
DTSTART:20220404T040000Z
DTEND:20220404T040000Z
DTSTAMP:20260420T151256Z
SUMMARY:Possible Snow Make Up Day
DESCRIPTION:Possible Snow Make Up Day
LOCATION:undefined
UID:258567350393198440
END:VEVENT
END:VCALENDAR
