BEGIN:VCALENDAR
PRODID:-//punkave//apostrophe 2.x//EN
VERSION:1.0
TZ:0
BEGIN:VEVENT
CATEGORIES:MEETING
DTSTART:20221007T040000Z
DTEND:20221007T040000Z
DTSTAMP:20260421T014731Z
SUMMARY:SCHOOL CLOSED: Fall Holiday
DESCRIPTION:SCHOOL CLOSED: Fall Holiday
LOCATION:undefined
UID:44728525543438678
END:VEVENT
END:VCALENDAR
