BEGIN:VCALENDAR
PRODID:-//punkave//apostrophe 2.x//EN
VERSION:1.0
TZ:0
BEGIN:VEVENT
CATEGORIES:MEETING
DTSTART:20220905T040000Z
DTEND:20220905T040000Z
DTSTAMP:20260420T234812Z
SUMMARY:SCHOOL CLOSED: Labor Day
DESCRIPTION:SCHOOL CLOSED: Labor Day
LOCATION:undefined
UID:525927921117157451
END:VEVENT
END:VCALENDAR
