BEGIN:VCALENDAR
PRODID:-//punkave//apostrophe 2.x//EN
VERSION:1.0
TZ:0
BEGIN:VEVENT
CATEGORIES:MEETING
DTSTART:20220926T040000Z
DTEND:20220926T040000Z
DTSTAMP:20260421T011729Z
SUMMARY:SCHOOL CLOSED: Rosh Hashanah
DESCRIPTION:SCHOOL CLOSED: Rosh Hashanah
LOCATION:undefined
UID:263691424995255031
END:VEVENT
END:VCALENDAR
