BEGIN:VCALENDAR
PRODID:-//punkave//apostrophe 2.x//EN
VERSION:1.0
TZ:0
BEGIN:VEVENT
CATEGORIES:MEETING
DTSTART:20220401T040000Z
DTEND:20220401T040000Z
DTSTAMP:20260420T153510Z
SUMMARY:SCHOOL CLOSED: Spring Break
DESCRIPTION:SCHOOL CLOSED: Spring Break
LOCATION:undefined
UID:16512191937112056
END:VEVENT
END:VCALENDAR
