BEGIN:VCALENDAR
PRODID:-//punkave//apostrophe 2.x//EN
VERSION:1.0
TZ:0
BEGIN:VEVENT
CATEGORIES:MEETING
DTSTART:20220404T040000Z
DTEND:20220404T040000Z
DTSTAMP:20260420T151230Z
SUMMARY:SCHOOL CLOSED: Spring Break
DESCRIPTION:SCHOOL CLOSED: Spring Break
LOCATION:undefined
UID:766452401506512593
END:VEVENT
END:VCALENDAR
