BEGIN:VCALENDAR
PRODID:-//punkave//apostrophe 2.x//EN
VERSION:1.0
TZ:0
BEGIN:VEVENT
CATEGORIES:MEETING
DTSTART:20220422T040000Z
DTEND:20220422T040000Z
DTSTAMP:20260420T171401Z
SUMMARY:SCHOOL CLOSED: Spring Conferences
DESCRIPTION:SCHOOL CLOSED: Spring Conferences
LOCATION:undefined
UID:315462722443322190
END:VEVENT
END:VCALENDAR
