BEGIN:VCALENDAR
PRODID:-//punkave//apostrophe 2.x//EN
VERSION:1.0
TZ:0
BEGIN:VEVENT
CATEGORIES:MEETING
DTSTART:20220405T120000Z
DTEND:20220405T120000Z
DTSTAMP:20260420T153152Z
SUMMARY:SCHOOL REOPENS
DESCRIPTION:SCHOOL REOPENS
LOCATION:undefined
UID:36911694513445268
END:VEVENT
END:VCALENDAR
