BEGIN:VCALENDAR
PRODID:-//punkave//apostrophe 2.x//EN
VERSION:1.0
TZ:0
BEGIN:VEVENT
CATEGORIES:MEETING
DTSTART:20221003T230000Z
DTEND:20221005T000000Z
DTSTAMP:20260421T013908Z
SUMMARY:Seventh Grade Health Night
DESCRIPTION:
LOCATION:undefined
UID:89368858681877184
END:VEVENT
END:VCALENDAR
