BEGIN:VCALENDAR
PRODID:-//punkave//apostrophe 2.x//EN
VERSION:1.0
TZ:0
BEGIN:VEVENT
CATEGORIES:MEETING
DTSTART:20220421T170000Z
DTEND:20220422T000000Z
DTSTAMP:20260420T183208Z
SUMMARY:Spring Conferences
DESCRIPTION:Spring Conferences
LOCATION:undefined
UID:237587810673437060
END:VEVENT
END:VCALENDAR
