BEGIN:VCALENDAR
PRODID:-//punkave//apostrophe 2.x//EN
VERSION:1.0
TZ:0
BEGIN:VEVENT
CATEGORIES:MEETING
DTSTART:20220422T120000Z
DTEND:20220422T190000Z
DTSTAMP:20260420T165330Z
SUMMARY:Spring Conferences
DESCRIPTION:Spring Conferences
LOCATION:undefined
UID:33115695369390630
END:VEVENT
END:VCALENDAR
