BEGIN:VCALENDAR
PRODID:-//punkave//apostrophe 2.x//EN
VERSION:1.0
TZ:0
BEGIN:VEVENT
CATEGORIES:MEETING
DTSTART:20260529T213000Z
DTEND:20260529T233000Z
DTSTAMP:20260422T141412Z
SUMMARY:Stan Kenyon End of Year BBQ
DESCRIPTION:
LOCATION:undefined
UID:523112264155106292
END:VEVENT
END:VCALENDAR
