BEGIN:VCALENDAR
PRODID:-//punkave//apostrophe 2.x//EN
VERSION:1.0
TZ:0
BEGIN:VEVENT
CATEGORIES:MEETING
DTSTART:20221009T040000Z
DTEND:20221009T040000Z
DTSTAMP:20260421T014731Z
SUMMARY:Sukkot begins at Sunset
DESCRIPTION:Sukkot begins at Sunset
LOCATION:undefined
UID:485536934719953134
END:VEVENT
END:VCALENDAR
