BEGIN:VCALENDAR
PRODID:-//punkave//apostrophe 2.x//EN
VERSION:1.0
TZ:0
BEGIN:VEVENT
CATEGORIES:MEETING
DTSTART:20220906T040000Z
DTEND:20220906T040000Z
DTSTAMP:20260420T235011Z
SUMMARY:Trimester 1 Begins
DESCRIPTION:Trimester 1 Begins
LOCATION:undefined
UID:117191411713943514
END:VEVENT
END:VCALENDAR
