BEGIN:VCALENDAR
PRODID:-//punkave//apostrophe 2.x//EN
VERSION:1.0
TZ:0
BEGIN:VEVENT
CATEGORIES:MEETING
DTSTART:20260615T120000Z
DTEND:20260615T193000Z
DTSTAMP:20260422T171946Z
SUMMARY:Week 1 - Garden Explorers
DESCRIPTION:
LOCATION:undefined
UID:105047748566381043
END:VEVENT
END:VCALENDAR
